BEGIN:VCALENDAR
VERSION:2.0
PRODID:-//Brian DeLeeuw - ECPv6.15.20//NONSGML v1.0//EN
CALSCALE:GREGORIAN
METHOD:PUBLISH
X-ORIGINAL-URL:https://www.briandeleeuw.com
X-WR-CALDESC:Events for Brian DeLeeuw
REFRESH-INTERVAL;VALUE=DURATION:PT1H
X-Robots-Tag:noindex
X-PUBLISHED-TTL:PT1H
BEGIN:VTIMEZONE
TZID:America/Los_Angeles
BEGIN:DAYLIGHT
TZOFFSETFROM:-0800
TZOFFSETTO:-0700
TZNAME:PDT
DTSTART:20140309T100000
END:DAYLIGHT
BEGIN:STANDARD
TZOFFSETFROM:-0700
TZOFFSETTO:-0800
TZNAME:PST
DTSTART:20141102T090000
END:STANDARD
BEGIN:DAYLIGHT
TZOFFSETFROM:-0800
TZOFFSETTO:-0700
TZNAME:PDT
DTSTART:20150308T100000
END:DAYLIGHT
BEGIN:STANDARD
TZOFFSETFROM:-0700
TZOFFSETTO:-0800
TZNAME:PST
DTSTART:20151101T090000
END:STANDARD
BEGIN:DAYLIGHT
TZOFFSETFROM:-0800
TZOFFSETTO:-0700
TZNAME:PDT
DTSTART:20160313T100000
END:DAYLIGHT
BEGIN:STANDARD
TZOFFSETFROM:-0700
TZOFFSETTO:-0800
TZNAME:PST
DTSTART:20161106T090000
END:STANDARD
END:VTIMEZONE
BEGIN:VEVENT
DTSTART;TZID=America/Los_Angeles:20150829T233000
DTEND;TZID=America/Los_Angeles:20150829T233000
DTSTAMP:20260423T085349
CREATED:20150707T181615Z
LAST-MODIFIED:20150707T182101Z
UID:413-1440891000-1440891000@www.briandeleeuw.com
SUMMARY:Some Kind of Hate @ FrightFest UK
DESCRIPTION:Encore screening of Some Kind of Hate at FILM 4’s FrightFest UK in London. For tickets and more information about this amazing festival\, see here.
URL:https://www.briandeleeuw.com/event/some-kind-of-hate-frightfest-uk-3/
LOCATION:Vue Cinema (Horror Channel Screen)\, Leicester Square\, London\, WC2H 7AL\, United Kingdom
CATEGORIES:Screenings
ATTACH;FMTTYPE=image/png:https://www.briandeleeuw.com/wp-content/uploads/2015/07/fightfest.png
END:VEVENT
BEGIN:VEVENT
DTSTART;TZID=America/Los_Angeles:20150829T205500
DTEND;TZID=America/Los_Angeles:20150829T205500
DTSTAMP:20260423T085349
CREATED:20150707T181208Z
LAST-MODIFIED:20150707T181939Z
UID:411-1440881700-1440881700@www.briandeleeuw.com
SUMMARY:Some Kind of Hate @ FrightFest UK
DESCRIPTION:Encore screening of Some Kind of Hate at FILM 4’s FrightFest UK in London. For tickets and more information about this amazing festival\, see here.
URL:https://www.briandeleeuw.com/event/some-kind-of-hate-frightfest-uk-2/
LOCATION:Vue Cinema (Arrow Screen)\, Leicester Square\, London\, WC2H 7AL\, United Kingdom
CATEGORIES:Screenings
ATTACH;FMTTYPE=image/png:https://www.briandeleeuw.com/wp-content/uploads/2015/07/fightfest.png
END:VEVENT
BEGIN:VEVENT
DTSTART;TZID=America/Los_Angeles:20150829T181500
DTEND;TZID=America/Los_Angeles:20150829T181500
DTSTAMP:20260423T085349
CREATED:20150707T180712Z
LAST-MODIFIED:20150707T180712Z
UID:407-1440872100-1440872100@www.briandeleeuw.com
SUMMARY:Some Kind of Hate @ FrightFest UK
DESCRIPTION:UK premier of Some Kind of Hate at FILM4’s FrightFest UK in London. For tickets and more information about this amazing festival\, see here.
URL:https://www.briandeleeuw.com/event/some-kind-of-hate-frightfest-uk/
LOCATION:Vue Cinema (Film 4 Screen)\, Leicester Square\, London\, WC2H 7AL\, United Kingdom
CATEGORIES:Screenings
ATTACH;FMTTYPE=image/png:https://www.briandeleeuw.com/wp-content/uploads/2015/07/fightfest.png
END:VEVENT
BEGIN:VEVENT
DTSTART;TZID=America/Los_Angeles:20150803T190000
DTEND;TZID=America/Los_Angeles:20150803T190000
DTSTAMP:20260423T085349
CREATED:20150716T195532Z
LAST-MODIFIED:20150716T200735Z
UID:430-1438628400-1438628400@www.briandeleeuw.com
SUMMARY:Bedtime Stories @ Ace Hotel
DESCRIPTION:Come to the rooftop of the Ace Hotel in Downtown LA to hear me read alongside Aimee Bender and Jessica Garrison.  This is the launch event for a new project in which our stories will be broadcast on the Ace’s in-house radio station in all of their LA and London guest rooms.  See here to RSVP and for more information about the event and here for more information about the Bedtime Stories project.
URL:https://www.briandeleeuw.com/event/bedtime-stories-ace-hotel/
LOCATION:Ace Hotel DTLA\, 929 S. Broadway\, Los Angeles\, CA\, 90015\, United States
CATEGORIES:Readings
ATTACH;FMTTYPE=image/jpeg:https://www.briandeleeuw.com/wp-content/uploads/2015/07/DTLA_Bedtime_Stories_v1_TC.jpg
END:VEVENT
BEGIN:VEVENT
DTSTART;TZID=America/Los_Angeles:20150726T193000
DTEND;TZID=America/Los_Angeles:20150726T193000
DTSTAMP:20260423T085349
CREATED:20150710T172815Z
LAST-MODIFIED:20150710T172815Z
UID:425-1437939000-1437939000@www.briandeleeuw.com
SUMMARY:Some Kind of Hate @ Fantasia Film Festival
DESCRIPTION:Canadian premiere of Some Kind of Hate at the Fantasia International Film Festival in Montreal. For tickets and more information about the festival\, see here.
URL:https://www.briandeleeuw.com/event/some-kind-of-hate-fantasia-film-festival/
LOCATION:Concordia Hall Theater\, 1455 de Maisonneuve O.\, Montreal\, QC\, Canada
CATEGORIES:Screenings
ATTACH;FMTTYPE=image/jpeg:https://www.briandeleeuw.com/wp-content/uploads/2015/07/Fantasia_2015_Poster.jpg
END:VEVENT
BEGIN:VEVENT
DTSTART;TZID=America/Los_Angeles:20150505T193000
DTEND;TZID=America/Los_Angeles:20150505T193000
DTSTAMP:20260423T085349
CREATED:20150122T224335Z
LAST-MODIFIED:20150301T012345Z
UID:288-1430854200-1430854200@www.briandeleeuw.com
SUMMARY:Skylight Books
DESCRIPTION:Los Angeles launch reading for The Dismantling at Skylight Books in Los Feliz
URL:https://www.briandeleeuw.com/event/skylight-books/
LOCATION:Skylight Books\, 1818 N Vermont Avenue\, Los Angeles\, CA\, 90027\, United States
CATEGORIES:Readings
ATTACH;FMTTYPE=image/jpeg:https://www.briandeleeuw.com/wp-content/uploads/2015/01/0_4200_84_2716_two_los-angeles-skylight-bookstore-bohler3372.jpg
END:VEVENT
BEGIN:VEVENT
DTSTART;TZID=America/Los_Angeles:20150503T140000
DTEND;TZID=America/Los_Angeles:20150503T140000
DTSTAMP:20260423T085349
CREATED:20150402T231109Z
LAST-MODIFIED:20150402T231109Z
UID:325-1430661600-1430661600@www.briandeleeuw.com
SUMMARY:Some Kind of Hate @ Stanley Film Fest
DESCRIPTION:Encore screening of Some Kind of Hate at the Stanley Film Festival.  For tickets and information\, see here.
URL:https://www.briandeleeuw.com/event/some-kind-of-hate-stanley-film-fest-2/
LOCATION:Reel Mountain Theater\, 543 Big Thompson Avenue\, Estes Park\, CO\, 80517\, United States
CATEGORIES:Screenings
ATTACH;FMTTYPE=image/jpeg:https://www.briandeleeuw.com/wp-content/uploads/2015/04/stanley-film-festival.jpg
END:VEVENT
BEGIN:VEVENT
DTSTART;TZID=America/Los_Angeles:20150502T133000
DTEND;TZID=America/Los_Angeles:20150502T133000
DTSTAMP:20260423T085349
CREATED:20150402T230450Z
LAST-MODIFIED:20150402T230556Z
UID:318-1430573400-1430573400@www.briandeleeuw.com
SUMMARY:Some Kind of Hate @ Stanley Film Fest
DESCRIPTION:World premiere of Some Kind of Hate at the Stanley Film Festival.  For tickets and information\, see here.
URL:https://www.briandeleeuw.com/event/some-kind-of-hate-stanley-film-fest/
LOCATION:Historic Park Theatre\, 130 Moraine Avenue\, Estes Park\, CO\, 80517\, United States
CATEGORIES:Screenings
ATTACH;FMTTYPE=image/jpeg:https://www.briandeleeuw.com/wp-content/uploads/2015/04/stanley-film-festival.jpg
END:VEVENT
BEGIN:VEVENT
DTSTART;TZID=America/Los_Angeles:20150430T190000
DTEND;TZID=America/Los_Angeles:20150430T190000
DTSTAMP:20260423T085349
CREATED:20150128T215420Z
LAST-MODIFIED:20150402T223242Z
UID:293-1430420400-1430420400@www.briandeleeuw.com
SUMMARY:BookCourt
DESCRIPTION:Brooklyn launch reading for The Dismantling at BookCourt in Cobble Hill
URL:https://www.briandeleeuw.com/event/bookcourt/
LOCATION:BookCourt\, 163 Court Street\, Brooklyn\, NY\, 11201\, United States
CATEGORIES:Readings
ATTACH;FMTTYPE=image/jpeg:https://www.briandeleeuw.com/wp-content/uploads/2015/01/bookcourt620x348.jpg
END:VEVENT
BEGIN:VEVENT
DTSTART;TZID=America/Los_Angeles:20150429T190000
DTEND;TZID=America/Los_Angeles:20150429T190000
DTSTAMP:20260423T085349
CREATED:20141010T004219Z
LAST-MODIFIED:20150317T002126Z
UID:33-1430334000-1430334000@www.briandeleeuw.com
SUMMARY:Book Culture
DESCRIPTION:Manhattan launch reading for The Dismantling at Book Culture on the Upper West Side
URL:https://www.briandeleeuw.com/event/book-culture/
LOCATION:Book Culture\, 450 Columbus Avenue (b/w 81st and 82nd Streets)\, New York\, NY\, 10024\, United States
CATEGORIES:Readings
ATTACH;FMTTYPE=image/jpeg:https://www.briandeleeuw.com/wp-content/uploads/2014/10/bookculture_wood.jpg
END:VEVENT
END:VCALENDAR